Package: ginmappeR Version: 1.3.3 Command: /Library/Frameworks/R.framework/Resources/bin/R CMD check --test-dir=longtests --no-stop-on-test-error --no-codoc --no-examples --no-manual --ignore-vignettes --check-subdirs=no ginmappeR_1.3.3.tar.gz StartedAt: 2025-02-15 16:09:00 -0500 (Sat, 15 Feb 2025) EndedAt: 2025-02-15 16:12:40 -0500 (Sat, 15 Feb 2025) EllapsedTime: 220.2 seconds RetCode: 1 Status: ERROR CheckDir: ginmappeR.Rcheck Warnings: NA