Package: clusterExperiment Version: 2.27.0 Command: /Library/Frameworks/R.framework/Resources/bin/R CMD check --test-dir=longtests --no-stop-on-test-error --no-codoc --no-examples --no-manual --ignore-vignettes --check-subdirs=no clusterExperiment_2.27.0.tar.gz StartedAt: 2025-02-15 16:03:41 -0500 (Sat, 15 Feb 2025) EndedAt: 2025-02-15 16:16:13 -0500 (Sat, 15 Feb 2025) EllapsedTime: 752.1 seconds RetCode: 1 Status: ERROR CheckDir: clusterExperiment.Rcheck Warnings: NA