Package: biodbHmdb Version: 1.13.0 Command: E:\biocbuild\bbs-3.21-bioc\R\bin\R.exe CMD check --no-multiarch --test-dir=longtests --no-stop-on-test-error --no-codoc --no-examples --no-manual --ignore-vignettes --check-subdirs=no biodbHmdb_1.13.0.tar.gz StartedAt: 2025-02-15 16:03:02 -0500 (Sat, 15 Feb 2025) EndedAt: 2025-02-15 17:47:54 -0500 (Sat, 15 Feb 2025) EllapsedTime: 6292.4 seconds RetCode: 1 Status: ERROR CheckDir: biodbHmdb.Rcheck Warnings: NA