Package: beachmat Version: 2.23.6 Command: E:\biocbuild\bbs-3.21-bioc\R\bin\R.exe CMD check --no-multiarch --test-dir=longtests --no-stop-on-test-error --no-codoc --no-examples --no-manual --ignore-vignettes --check-subdirs=no beachmat_2.23.6.tar.gz StartedAt: 2025-02-15 16:03:02 -0500 (Sat, 15 Feb 2025) EndedAt: 2025-02-15 16:09:02 -0500 (Sat, 15 Feb 2025) EllapsedTime: 360.1 seconds RetCode: 0 Status: WARNINGS CheckDir: beachmat.Rcheck Warnings: 2