Package: beachmat Version: 2.23.6 Command: /Library/Frameworks/R.framework/Resources/bin/R CMD check --test-dir=longtests --no-stop-on-test-error --no-codoc --no-examples --no-manual --ignore-vignettes --check-subdirs=no beachmat_2.23.6.tar.gz StartedAt: 2025-02-15 16:01:03 -0500 (Sat, 15 Feb 2025) EndedAt: 2025-02-15 16:04:36 -0500 (Sat, 15 Feb 2025) EllapsedTime: 212.3 seconds RetCode: 0 Status: WARNINGS CheckDir: beachmat.Rcheck Warnings: 2