Package: TENxIO Version: 1.9.3 Command: /Library/Frameworks/R.framework/Resources/bin/R CMD check --test-dir=longtests --no-stop-on-test-error --no-codoc --no-examples --no-manual --ignore-vignettes --check-subdirs=no TENxIO_1.9.3.tar.gz StartedAt: 2025-02-15 16:13:56 -0500 (Sat, 15 Feb 2025) EndedAt: 2025-02-15 16:16:08 -0500 (Sat, 15 Feb 2025) EllapsedTime: 132.5 seconds RetCode: 0 Status: OK CheckDir: TENxIO.Rcheck Warnings: 0