Package: SimBu Version: 1.9.0 Command: E:\biocbuild\bbs-3.21-bioc\R\bin\R.exe CMD check --no-multiarch --test-dir=longtests --no-stop-on-test-error --no-codoc --no-examples --no-manual --ignore-vignettes --check-subdirs=no SimBu_1.9.0.tar.gz StartedAt: 2025-02-15 16:42:34 -0500 (Sat, 15 Feb 2025) EndedAt: 2025-02-15 16:46:41 -0500 (Sat, 15 Feb 2025) EllapsedTime: 247.2 seconds RetCode: 1 Status: ERROR CheckDir: SimBu.Rcheck Warnings: NA