Package: SimBu Version: 1.9.0 Command: /home/biocbuild/bbs-3.21-bioc/R/bin/R CMD check --test-dir=longtests --no-stop-on-test-error --no-codoc --no-examples --no-manual --ignore-vignettes --check-subdirs=no SimBu_1.9.0.tar.gz StartedAt: 2025-02-15 16:25:54 -0500 (Sat, 15 Feb 2025) EndedAt: 2025-02-15 16:27:42 -0500 (Sat, 15 Feb 2025) EllapsedTime: 108.1 seconds RetCode: 1 Status: ERROR CheckDir: SimBu.Rcheck Warnings: NA