Package: GenomicFeatures Version: 1.59.1 Command: /home/biocbuild/bbs-3.21-bioc/R/bin/R CMD check --test-dir=longtests --no-stop-on-test-error --no-codoc --no-examples --no-manual --ignore-vignettes --check-subdirs=no GenomicFeatures_1.59.1.tar.gz StartedAt: 2025-02-15 16:19:58 -0500 (Sat, 15 Feb 2025) EndedAt: 2025-02-15 16:23:03 -0500 (Sat, 15 Feb 2025) EllapsedTime: 185.1 seconds RetCode: 0 Status: WARNINGS CheckDir: GenomicFeatures.Rcheck Warnings: 1