Package: DelayedMatrixStats Version: 1.29.1 Command: /home/biocbuild/bbs-3.21-bioc/R/bin/R CMD check --test-dir=longtests --no-stop-on-test-error --no-codoc --no-examples --no-manual --ignore-vignettes --check-subdirs=no DelayedMatrixStats_1.29.1.tar.gz StartedAt: 2025-02-15 16:15:49 -0500 (Sat, 15 Feb 2025) EndedAt: 2025-02-15 16:17:31 -0500 (Sat, 15 Feb 2025) EllapsedTime: 101.0 seconds RetCode: 0 Status: OK CheckDir: DelayedMatrixStats.Rcheck Warnings: 0