Package: CRISPRball Version: 1.3.2 Command: /Library/Frameworks/R.framework/Resources/bin/R CMD check --test-dir=longtests --no-stop-on-test-error --no-codoc --no-examples --no-manual --ignore-vignettes --check-subdirs=no CRISPRball_1.3.2.tar.gz StartedAt: 2025-02-15 16:04:14 -0500 (Sat, 15 Feb 2025) EndedAt: 2025-02-15 16:11:53 -0500 (Sat, 15 Feb 2025) EllapsedTime: 459.7 seconds RetCode: 0 Status: OK CheckDir: CRISPRball.Rcheck Warnings: 0