Package: RbowtieCuda Version: 1.0.10 Command: /home/biocbuild/bbs-3.21-bioc-gpu/R/bin/R CMD INSTALL RbowtieCuda StartedAt: 2025-10-16 04:45:11 -0400 (Thu, 16 Oct 2025) EndedAt: 2025-10-16 04:49:13 -0400 (Thu, 16 Oct 2025) EllapsedTime: 241.7 seconds RetCode: 0 Status: OK