Package: zlibbioc Version: 1.53.0 Command: E:\biocbuild\bbs-3.21-bioc\R\bin\R.exe CMD check --no-multiarch --install=check:zlibbioc.install-out.txt --library=E:\biocbuild\bbs-3.21-bioc\R\library --no-vignettes --timings zlibbioc_1.53.0.tar.gz StartedAt: 2025-02-21 07:01:24 -0500 (Fri, 21 Feb 2025) EndedAt: 2025-02-21 07:01:51 -0500 (Fri, 21 Feb 2025) EllapsedTime: 27.0 seconds RetCode: 0 Status: OK CheckDir: zlibbioc.Rcheck Warnings: 0