Package: zlibbioc Version: 1.53.0 Command: rm -rf zlibbioc.buildbin-libdir && mkdir zlibbioc.buildbin-libdir && E:\biocbuild\bbs-3.21-bioc\R\bin\R.exe CMD INSTALL --build --library=zlibbioc.buildbin-libdir zlibbioc_1.53.0.tar.gz StartedAt: 2025-02-21 09:22:47 -0500 (Fri, 21 Feb 2025) EndedAt: 2025-02-21 09:23:03 -0500 (Fri, 21 Feb 2025) EllapsedTime: 16.5 seconds RetCode: 0 Status: OK PackageFile: zlibbioc_1.53.0.zip PackageFileSize: 369.2 KiB