Package: zlibbioc Version: 1.53.0 Command: /Library/Frameworks/R.framework/Resources/bin/R CMD check --install=check:zlibbioc.install-out.txt --library=/Library/Frameworks/R.framework/Resources/library --no-vignettes --timings zlibbioc_1.53.0.tar.gz StartedAt: 2025-02-21 00:04:19 -0500 (Fri, 21 Feb 2025) EndedAt: 2025-02-21 00:04:44 -0500 (Fri, 21 Feb 2025) EllapsedTime: 24.8 seconds RetCode: 0 Status: OK CheckDir: zlibbioc.Rcheck Warnings: 0