Package: zlibbioc Version: 1.53.0 Command: /Library/Frameworks/R.framework/Resources/bin/R CMD build --keep-empty-dirs --no-resave-data zlibbioc StartedAt: 2025-02-20 18:39:39 -0500 (Thu, 20 Feb 2025) EndedAt: 2025-02-20 18:39:49 -0500 (Thu, 20 Feb 2025) EllapsedTime: 10.2 seconds RetCode: 0 Status: OK PackageFile: zlibbioc_1.53.0.tar.gz PackageFileSize: 373.9 KiB