Package: zlibbioc Version: 1.53.0 Command: rm -rf zlibbioc.buildbin-libdir && mkdir zlibbioc.buildbin-libdir && /Users/biocbuild/BBS/utils/build-universal.sh zlibbioc_1.53.0.tar.gz /Library/Frameworks/R.framework/Resources/bin/R zlibbioc.buildbin-libdir StartedAt: 2025-02-21 00:59:44 -0500 (Fri, 21 Feb 2025) EndedAt: 2025-02-21 00:59:53 -0500 (Fri, 21 Feb 2025) EllapsedTime: 8.6 seconds RetCode: 0 Status: OK PackageFile: zlibbioc_1.53.0.tgz PackageFileSize: 227.5 KiB