Package: zitools Version: 1.1.0 Command: /home/biocbuild/bbs-3.21-bioc/R/bin/R CMD check --install=check:zitools.install-out.txt --library=/home/biocbuild/bbs-3.21-bioc/R/site-library --timings zitools_1.1.0.tar.gz StartedAt: 2025-02-19 03:24:01 -0500 (Wed, 19 Feb 2025) EndedAt: 2025-02-19 03:30:23 -0500 (Wed, 19 Feb 2025) EllapsedTime: 382.1 seconds RetCode: 0 Status: WARNINGS CheckDir: zitools.Rcheck Warnings: 1