Package: zitools Version: 1.1.0 Command: /Library/Frameworks/R.framework/Resources/bin/R CMD build --keep-empty-dirs --no-resave-data zitools StartedAt: 2025-02-18 17:58:37 -0500 (Tue, 18 Feb 2025) EndedAt: 2025-02-18 17:59:22 -0500 (Tue, 18 Feb 2025) EllapsedTime: 44.5 seconds RetCode: 0 Status: OK PackageFile: zitools_1.1.0.tar.gz PackageFileSize: 242.2 KiB