Package: zitools Version: 1.1.0 Command: rm -rf zitools.buildbin-libdir && mkdir zitools.buildbin-libdir && /Users/biocbuild/BBS/utils/build-universal.sh zitools_1.1.0.tar.gz /Library/Frameworks/R.framework/Resources/bin/R zitools.buildbin-libdir StartedAt: 2025-02-18 22:42:30 -0500 (Tue, 18 Feb 2025) EndedAt: 2025-02-18 22:42:44 -0500 (Tue, 18 Feb 2025) EllapsedTime: 13.8 seconds RetCode: 0 Status: OK PackageFile: zitools_1.1.0.tgz PackageFileSize: 769.1 KiB