Package: zinbwave Version: 1.29.0 Command: /home/biocbuild/bbs-3.21-bioc/R/bin/R CMD check --install=check:zinbwave.install-out.txt --library=/home/biocbuild/bbs-3.21-bioc/R/site-library --timings zinbwave_1.29.0.tar.gz StartedAt: 2025-02-21 02:57:46 -0500 (Fri, 21 Feb 2025) EndedAt: 2025-02-21 03:03:57 -0500 (Fri, 21 Feb 2025) EllapsedTime: 370.9 seconds RetCode: 0 Status: OK CheckDir: zinbwave.Rcheck Warnings: 0