Package: zinbwave Version: 1.29.0 Command: /Library/Frameworks/R.framework/Resources/bin/R CMD check --install=check:zinbwave.install-out.txt --library=/Library/Frameworks/R.framework/Resources/library --no-vignettes --timings zinbwave_1.29.0.tar.gz StartedAt: 2025-02-21 00:04:03 -0500 (Fri, 21 Feb 2025) EndedAt: 2025-02-21 00:08:26 -0500 (Fri, 21 Feb 2025) EllapsedTime: 263.1 seconds RetCode: 0 Status: OK CheckDir: zinbwave.Rcheck Warnings: 0