Package: zinbwave Version: 1.29.0 Command: /Library/Frameworks/R.framework/Resources/bin/R CMD build --keep-empty-dirs --no-resave-data zinbwave StartedAt: 2025-02-20 18:39:30 -0500 (Thu, 20 Feb 2025) EndedAt: 2025-02-20 18:41:27 -0500 (Thu, 20 Feb 2025) EllapsedTime: 117.3 seconds RetCode: 0 Status: OK PackageFile: zinbwave_1.29.0.tar.gz PackageFileSize: 587.3 KiB