Package: zenith Version: 1.9.0 Command: E:\biocbuild\bbs-3.21-bioc\R\bin\R.exe CMD check --no-multiarch --install=check:zenith.install-out.txt --library=E:\biocbuild\bbs-3.21-bioc\R\library --no-vignettes --timings zenith_1.9.0.tar.gz StartedAt: 2025-02-21 07:00:16 -0500 (Fri, 21 Feb 2025) EndedAt: 2025-02-21 07:05:31 -0500 (Fri, 21 Feb 2025) EllapsedTime: 314.5 seconds RetCode: 0 Status: OK CheckDir: zenith.Rcheck Warnings: 0