############################################################################## ############################################################################## ### ### Running command: ### ### /home/biocbuild/bbs-3.21-bioc/R/bin/R CMD build --keep-empty-dirs --no-resave-data zenith ### ############################################################################## ############################################################################## * checking for file ‘zenith/DESCRIPTION’ ... OK * preparing ‘zenith’: * checking DESCRIPTION meta-information ... OK * installing the package to process help pages ----------------------------------- ERROR: dependency ‘EnrichmentBrowser’ is not available for package ‘zenith’ Perhaps try a variation of: install.packages('EnrichmentBrowser') * removing ‘/tmp/Rtmpww4Pt1/Rinst283b001676ce68/zenith’ ----------------------------------- ERROR: package installation failed