Package: zenith Version: 1.9.0 Command: /Library/Frameworks/R.framework/Resources/bin/R CMD check --install=check:zenith.install-out.txt --library=/Library/Frameworks/R.framework/Resources/library --no-vignettes --timings zenith_1.9.0.tar.gz StartedAt: 2025-02-21 00:03:46 -0500 (Fri, 21 Feb 2025) EndedAt: 2025-02-21 00:08:01 -0500 (Fri, 21 Feb 2025) EllapsedTime: 255.6 seconds RetCode: 0 Status: OK CheckDir: zenith.Rcheck Warnings: 0