Package: zenith Version: 1.9.0 Command: /Library/Frameworks/R.framework/Resources/bin/R CMD build --keep-empty-dirs --no-resave-data zenith StartedAt: 2025-02-20 18:39:21 -0500 (Thu, 20 Feb 2025) EndedAt: 2025-02-20 18:40:40 -0500 (Thu, 20 Feb 2025) EllapsedTime: 79.0 seconds RetCode: 0 Status: OK PackageFile: zenith_1.9.0.tar.gz PackageFileSize: 4.091 MiB