Package: zenith Version: 1.9.0 Command: /Library/Frameworks/R.framework/Resources/bin/R CMD INSTALL zenith StartedAt: 2025-02-20 15:10:23 -0500 (Thu, 20 Feb 2025) EndedAt: 2025-02-20 15:10:42 -0500 (Thu, 20 Feb 2025) EllapsedTime: 19.1 seconds RetCode: 0 Status: OK