Package: zenith Version: 1.9.0 Command: /Library/Frameworks/R.framework/Resources/bin/R CMD build --keep-empty-dirs --no-resave-data zenith StartedAt: 2025-02-20 17:55:18 -0500 (Thu, 20 Feb 2025) EndedAt: 2025-02-20 17:55:51 -0500 (Thu, 20 Feb 2025) EllapsedTime: 32.5 seconds RetCode: 0 Status: OK PackageFile: zenith_1.9.0.tar.gz PackageFileSize: 4.091 MiB