Package: zellkonverter Version: 1.17.0 Command: rm -rf zellkonverter.buildbin-libdir && mkdir zellkonverter.buildbin-libdir && E:\biocbuild\bbs-3.21-bioc\R\bin\R.exe CMD INSTALL --build --library=zellkonverter.buildbin-libdir zellkonverter_1.17.0.tar.gz StartedAt: 2025-02-20 09:02:15 -0500 (Thu, 20 Feb 2025) EndedAt: 2025-02-20 09:02:46 -0500 (Thu, 20 Feb 2025) EllapsedTime: 31.8 seconds RetCode: 0 Status: OK PackageFile: zellkonverter_1.17.0.zip PackageFileSize: 1.206 MiB