Package: zFPKM Version: 1.29.0 Command: E:\biocbuild\bbs-3.21-bioc\R\bin\R.exe CMD check --no-multiarch --install=check:zFPKM.install-out.txt --library=E:\biocbuild\bbs-3.21-bioc\R\library --no-vignettes --timings zFPKM_1.29.0.tar.gz StartedAt: 2025-02-21 07:00:36 -0500 (Fri, 21 Feb 2025) EndedAt: 2025-02-21 07:03:27 -0500 (Fri, 21 Feb 2025) EllapsedTime: 171.4 seconds RetCode: 0 Status: OK CheckDir: zFPKM.Rcheck Warnings: 0