Package: zFPKM Version: 1.29.0 Command: /home/biocbuild/bbs-3.21-bioc/R/bin/R CMD build --keep-empty-dirs --no-resave-data zFPKM StartedAt: 2025-02-20 19:46:33 -0500 (Thu, 20 Feb 2025) EndedAt: 2025-02-20 19:47:19 -0500 (Thu, 20 Feb 2025) EllapsedTime: 45.7 seconds RetCode: 0 Status: OK PackageFile: zFPKM_1.29.0.tar.gz PackageFileSize: 147.3 KiB