Package: zFPKM Version: 1.29.0 Command: /Library/Frameworks/R.framework/Resources/bin/R CMD INSTALL zFPKM StartedAt: 2025-02-21 15:10:40 -0500 (Fri, 21 Feb 2025) EndedAt: 2025-02-21 15:11:12 -0500 (Fri, 21 Feb 2025) EllapsedTime: 32.0 seconds RetCode: 0 Status: OK