Package: zFPKM Version: 1.29.0 Command: /Library/Frameworks/R.framework/Resources/bin/R CMD check --install=check:zFPKM.install-out.txt --library=/Library/Frameworks/R.framework/Resources/library --no-vignettes --timings zFPKM_1.29.0.tar.gz StartedAt: 2025-02-22 00:04:52 -0500 (Sat, 22 Feb 2025) EndedAt: 2025-02-22 00:07:26 -0500 (Sat, 22 Feb 2025) EllapsedTime: 154.5 seconds RetCode: 0 Status: OK CheckDir: zFPKM.Rcheck Warnings: 0