Package: zFPKM Version: 1.29.0 Command: rm -rf zFPKM.buildbin-libdir && mkdir zFPKM.buildbin-libdir && /Users/biocbuild/BBS/utils/build-universal.sh zFPKM_1.29.0.tar.gz /Library/Frameworks/R.framework/Resources/bin/R zFPKM.buildbin-libdir StartedAt: 2025-02-22 01:00:35 -0500 (Sat, 22 Feb 2025) EndedAt: 2025-02-22 01:01:03 -0500 (Sat, 22 Feb 2025) EllapsedTime: 27.1 seconds RetCode: 0 Status: OK PackageFile: zFPKM_1.29.0.tgz PackageFileSize: 222.7 KiB