Package: zFPKM Version: 1.29.0 Command: /Library/Frameworks/R.framework/Resources/bin/R CMD INSTALL zFPKM StartedAt: 2025-02-20 15:06:00 -0500 (Thu, 20 Feb 2025) EndedAt: 2025-02-20 15:06:10 -0500 (Thu, 20 Feb 2025) EllapsedTime: 9.8 seconds RetCode: 0 Status: OK