Package: zFPKM Version: 1.29.0 Command: /Library/Frameworks/R.framework/Resources/bin/R CMD check --install=check:zFPKM.install-out.txt --library=/Library/Frameworks/R.framework/Resources/library --no-vignettes --timings zFPKM_1.29.0.tar.gz StartedAt: 2025-02-20 22:03:48 -0500 (Thu, 20 Feb 2025) EndedAt: 2025-02-20 22:04:52 -0500 (Thu, 20 Feb 2025) EllapsedTime: 63.6 seconds RetCode: 0 Status: OK CheckDir: zFPKM.Rcheck Warnings: 0