Package: zFPKM Version: 1.29.0 Command: rm -rf zFPKM.buildbin-libdir && mkdir zFPKM.buildbin-libdir && /Users/biocbuild/BBS/utils/build-universal.sh zFPKM_1.29.0.tar.gz /Library/Frameworks/R.framework/Resources/bin/R zFPKM.buildbin-libdir StartedAt: 2025-02-20 22:39:50 -0500 (Thu, 20 Feb 2025) EndedAt: 2025-02-20 22:40:00 -0500 (Thu, 20 Feb 2025) EllapsedTime: 9.4 seconds RetCode: 0 Status: OK PackageFile: zFPKM_1.29.0.tgz PackageFileSize: 223.6 KiB