Package: yarn Version: 1.33.0 Command: /home/biocbuild/bbs-3.21-bioc/R/bin/R CMD INSTALL yarn StartedAt: 2025-02-19 15:45:16 -0500 (Wed, 19 Feb 2025) EndedAt: 2025-02-19 15:46:04 -0500 (Wed, 19 Feb 2025) EllapsedTime: 48.7 seconds RetCode: 0 Status: OK