Package: yarn Version: 1.33.0 Command: /home/biocbuild/bbs-3.21-bioc/R/bin/R CMD check --install=check:yarn.install-out.txt --library=/home/biocbuild/bbs-3.21-bioc/R/site-library --timings yarn_1.33.0.tar.gz StartedAt: 2025-02-20 03:39:45 -0500 (Thu, 20 Feb 2025) EndedAt: 2025-02-20 03:46:10 -0500 (Thu, 20 Feb 2025) EllapsedTime: 384.3 seconds RetCode: 0 Status: OK CheckDir: yarn.Rcheck Warnings: 0