Package: yarn Version: 1.33.0 Command: /Library/Frameworks/R.framework/Resources/bin/R CMD check --install=check:yarn.install-out.txt --library=/Library/Frameworks/R.framework/Resources/library --no-vignettes --timings yarn_1.33.0.tar.gz StartedAt: 2025-02-20 00:04:04 -0500 (Thu, 20 Feb 2025) EndedAt: 2025-02-20 00:09:46 -0500 (Thu, 20 Feb 2025) EllapsedTime: 342.2 seconds RetCode: 0 Status: OK CheckDir: yarn.Rcheck Warnings: 0