Package: yarn Version: 1.33.0 Command: /Library/Frameworks/R.framework/Resources/bin/R CMD build --keep-empty-dirs --no-resave-data yarn StartedAt: 2025-02-19 17:56:37 -0500 (Wed, 19 Feb 2025) EndedAt: 2025-02-19 17:57:12 -0500 (Wed, 19 Feb 2025) EllapsedTime: 34.8 seconds RetCode: 0 Status: OK PackageFile: yarn_1.33.0.tar.gz PackageFileSize: 2.973 MiB