Package: yamss Version: 1.33.0 Command: E:\biocbuild\bbs-3.21-bioc\R\bin\R.exe CMD check --no-multiarch --install=check:yamss.install-out.txt --library=E:\biocbuild\bbs-3.21-bioc\R\library --no-vignettes --timings yamss_1.33.0.tar.gz StartedAt: 2025-02-19 06:31:00 -0500 (Wed, 19 Feb 2025) EndedAt: 2025-02-19 06:35:14 -0500 (Wed, 19 Feb 2025) EllapsedTime: 253.5 seconds RetCode: 0 Status: OK CheckDir: yamss.Rcheck Warnings: 0