Package: yamss Version: 1.33.0 Command: chmod a+r yamss -R && E:\biocbuild\bbs-3.21-bioc\R\bin\R.exe CMD build --keep-empty-dirs --no-resave-data yamss StartedAt: 2025-02-18 22:16:33 -0500 (Tue, 18 Feb 2025) EndedAt: 2025-02-18 22:20:28 -0500 (Tue, 18 Feb 2025) EllapsedTime: 235.7 seconds RetCode: 0 Status: OK PackageFile: yamss_1.33.0.tar.gz PackageFileSize: 397.3 KiB