Package: xmapbridge Version: 1.65.0 Command: E:\biocbuild\bbs-3.21-bioc\R\bin\R.exe CMD INSTALL xmapbridge StartedAt: 2025-02-20 15:19:54 -0500 (Thu, 20 Feb 2025) EndedAt: 2025-02-20 15:20:14 -0500 (Thu, 20 Feb 2025) EllapsedTime: 19.7 seconds RetCode: 0 Status: OK