Package: xmapbridge Version: 1.65.0 Command: chmod a+r xmapbridge -R && E:\biocbuild\bbs-3.21-bioc\R\bin\R.exe CMD build --keep-empty-dirs --no-resave-data xmapbridge StartedAt: 2025-02-20 22:30:14 -0500 (Thu, 20 Feb 2025) EndedAt: 2025-02-20 22:31:42 -0500 (Thu, 20 Feb 2025) EllapsedTime: 87.4 seconds RetCode: 0 Status: OK PackageFile: xmapbridge_1.65.0.tar.gz PackageFileSize: 2.902 MiB