Package: xmapbridge Version: 1.65.0 Command: rm -rf xmapbridge.buildbin-libdir && mkdir xmapbridge.buildbin-libdir && E:\biocbuild\bbs-3.21-bioc\R\bin\R.exe CMD INSTALL --build --library=xmapbridge.buildbin-libdir xmapbridge_1.65.0.tar.gz StartedAt: 2025-02-21 09:22:17 -0500 (Fri, 21 Feb 2025) EndedAt: 2025-02-21 09:22:41 -0500 (Fri, 21 Feb 2025) EllapsedTime: 24.5 seconds RetCode: 0 Status: OK PackageFile: xmapbridge_1.65.0.zip PackageFileSize: 1.646 MiB