Package: xmapbridge Version: 1.65.0 Command: /Library/Frameworks/R.framework/Resources/bin/R CMD check --install=check:xmapbridge.install-out.txt --library=/Library/Frameworks/R.framework/Resources/library --no-vignettes --timings xmapbridge_1.65.0.tar.gz StartedAt: 2025-02-21 00:02:21 -0500 (Fri, 21 Feb 2025) EndedAt: 2025-02-21 00:02:56 -0500 (Fri, 21 Feb 2025) EllapsedTime: 34.4 seconds RetCode: 0 Status: OK CheckDir: xmapbridge.Rcheck Warnings: 0