Package: xmapbridge Version: 1.65.0 Command: /Library/Frameworks/R.framework/Resources/bin/R CMD build --keep-empty-dirs --no-resave-data xmapbridge StartedAt: 2025-02-20 18:38:51 -0500 (Thu, 20 Feb 2025) EndedAt: 2025-02-20 18:39:30 -0500 (Thu, 20 Feb 2025) EllapsedTime: 38.9 seconds RetCode: 0 Status: OK PackageFile: xmapbridge_1.65.0.tar.gz PackageFileSize: 3.018 MiB