Package: xmapbridge Version: 1.65.0 Command: /home/biocbuild/R/R/bin/R CMD build --keep-empty-dirs --no-resave-data xmapbridge StartedAt: 2025-01-28 03:13:33 -0000 (Tue, 28 Jan 2025) EndedAt: 2025-01-28 03:13:58 -0000 (Tue, 28 Jan 2025) EllapsedTime: 25.0 seconds RetCode: 0 Status: OK PackageFile: xmapbridge_1.65.0.tar.gz PackageFileSize: 3.013 MiB